BEGIN:VCALENDAR
VERSION:2.0
PRODID:-//Norfolk Archery Association - ECPv6.15.20//NONSGML v1.0//EN
CALSCALE:GREGORIAN
METHOD:PUBLISH
X-ORIGINAL-URL:https://norfolkarchery.org.uk
X-WR-CALDESC:Events for Norfolk Archery Association
REFRESH-INTERVAL;VALUE=DURATION:PT1H
X-Robots-Tag:noindex
X-PUBLISHED-TTL:PT1H
BEGIN:VTIMEZONE
TZID:UTC
BEGIN:STANDARD
TZOFFSETFROM:+0000
TZOFFSETTO:+0000
TZNAME:UTC
DTSTART:20240101T000000
END:STANDARD
END:VTIMEZONE
BEGIN:VEVENT
DTSTART;TZID=UTC:20250803T000000
DTEND;TZID=UTC:20250803T235959
DTSTAMP:20260421T112033
CREATED:20250522T211425Z
LAST-MODIFIED:20250522T211425Z
UID:393-1754179200-1754265599@norfolkarchery.org.uk
SUMMARY:City of Norwich Medieval Clout 2025
DESCRIPTION:City of Norwich Archers’ Medieval Clout returns for another year! Full details will be available soon so stayed tuned!
URL:https://norfolkarchery.org.uk/event/city-of-norwich-medieval-clout-2025
LOCATION:City of Norwich Archers\, 187 Middletons Lane\, Norwich\, Norfolk\, NR6 5SB\, United Kingdom
CATEGORIES:Tournaments
ATTACH;FMTTYPE=image/png:https://norfolkarchery.org.uk/wp-content/uploads/site_images/logo.png
END:VEVENT
BEGIN:VEVENT
DTSTART;TZID=UTC:20250713T000000
DTEND;TZID=UTC:20250713T235959
DTSTAMP:20260421T112033
CREATED:20250522T210821Z
LAST-MODIFIED:20250522T213116Z
UID:389-1752364800-1752451199@norfolkarchery.org.uk
SUMMARY:Griffin Archers 3rd Open Western
DESCRIPTION:Griffin Archers\, located in Cambridgeshire\, are pleased to be hosting their 3rd Open Western on Sunday 13th July 2025. \nFull details can be found on the entry form or their website.
URL:https://norfolkarchery.org.uk/event/griffin-archers-3rd-open-western
LOCATION:Norfolk
CATEGORIES:Away Shoots,Tournaments
ATTACH;FMTTYPE=image/png:https://norfolkarchery.org.uk/wp-content/uploads/site_images/logo.png
END:VEVENT
BEGIN:VEVENT
DTSTART;TZID=UTC:20250712T080000
DTEND;TZID=UTC:20250713T170000
DTSTAMP:20260421T112033
CREATED:20250522T210230Z
LAST-MODIFIED:20250527T125903Z
UID:385-1752307200-1752426000@norfolkarchery.org.uk
SUMMARY:Wymondham WRS WA Outdoor Weekend 2025
DESCRIPTION:Wymondham Archers’ WRS WA Outdoor Weekend returns for another year! This fun-filled shooting weekend will be WA720 and Metric rounds followed by Head-to-Head matches\, while Sunday will be a WA1440 and Metrics. \nMake sure to sign up via Wymondham Archers’ Trybooking page to ensure you don’t miss out on a great weekend of shooting!
URL:https://norfolkarchery.org.uk/event/wymondham-wrs-wa-outdoor-weekend-2025
LOCATION:Wymondham Rugby Club\, Barnard Fields\, off Bray Drive\, Wymondham\, Norfolk\, NR18 0GQ\, United Kingdom
CATEGORIES:Tournaments
ATTACH;FMTTYPE=image/png:https://norfolkarchery.org.uk/wp-content/uploads/site_images/logo.png
ORGANIZER;CN="Wymondham Archers":MAILTO:tournamentswymondhamarchers@gmail.com
END:VEVENT
BEGIN:VEVENT
DTSTART;TZID=UTC:20250615T000000
DTEND;TZID=UTC:20250615T235959
DTSTAMP:20260421T112033
CREATED:20250529T124027Z
LAST-MODIFIED:20250529T124027Z
UID:445-1749945600-1750031999@norfolkarchery.org.uk
SUMMARY:Buckinghamshire County Clout 2025
DESCRIPTION:Buckinghamshire Archery Association is pleased to announce the return of the Bucks County Clout!\n\nDate: Sunday 15th June 2025\nVenue: Newport Pagnell Archers\nRound: Double One-Way Imperial Clout\n\nFull details and entry information available by downloading the shoot information sheet.
URL:https://norfolkarchery.org.uk/event/buckinghamshire-county-clout-2025
LOCATION:Norfolk
CATEGORIES:Away Shoots,Tournaments
ATTACH;FMTTYPE=image/png:https://norfolkarchery.org.uk/wp-content/uploads/site_images/logo.png
END:VEVENT
END:VCALENDAR