BEGIN:VCALENDAR
VERSION:2.0
PRODID:-//Norfolk Archery Association - ECPv6.15.20//NONSGML v1.0//EN
CALSCALE:GREGORIAN
METHOD:PUBLISH
X-WR-CALNAME:Norfolk Archery Association
X-ORIGINAL-URL:https://norfolkarchery.org.uk
X-WR-CALDESC:Events for Norfolk Archery Association
REFRESH-INTERVAL;VALUE=DURATION:PT1H
X-Robots-Tag:noindex
X-PUBLISHED-TTL:PT1H
BEGIN:VTIMEZONE
TZID:UTC
BEGIN:STANDARD
TZOFFSETFROM:+0000
TZOFFSETTO:+0000
TZNAME:UTC
DTSTART:20250101T000000
END:STANDARD
END:VTIMEZONE
BEGIN:VEVENT
DTSTART;TZID=UTC:20261003T080000
DTEND;TZID=UTC:20261004T170000
DTSTAMP:20260422T110408
CREATED:20251125T220041Z
LAST-MODIFIED:20260226T234154Z
UID:592-1791014400-1791133200@norfolkarchery.org.uk
SUMMARY:Fakenham Bowmen Clout Weekend including County Clout
DESCRIPTION:The Fakenham Bowmen Clout weekend will return on 3rd and 4th October 2026\, and will once again incorporate the County Clout. \nFull details coming soon but we can tell you already there will definitely be weather! \nEntry is open!!
URL:https://norfolkarchery.org.uk/event/fakenham-bowmen-clout-weekend-including-county-clout
LOCATION:Fakenham Racecourse\, The Racecourse\, Fakenham\, Norfolk\, NR21 7NY\, United Kingdom
CATEGORIES:Tournaments
ATTACH;FMTTYPE=image/png:https://norfolkarchery.org.uk/wp-content/uploads/clubs/Logo.png
END:VEVENT
END:VCALENDAR