BEGIN:VCALENDAR
VERSION:2.0
PRODID:-//Norfolk Archery Association - ECPv6.15.20//NONSGML v1.0//EN
CALSCALE:GREGORIAN
METHOD:PUBLISH
X-WR-CALNAME:Norfolk Archery Association
X-ORIGINAL-URL:https://norfolkarchery.org.uk
X-WR-CALDESC:Events for Norfolk Archery Association
REFRESH-INTERVAL;VALUE=DURATION:PT1H
X-Robots-Tag:noindex
X-PUBLISHED-TTL:PT1H
BEGIN:VTIMEZONE
TZID:UTC
BEGIN:STANDARD
TZOFFSETFROM:+0000
TZOFFSETTO:+0000
TZNAME:UTC
DTSTART:20250101T000000
END:STANDARD
END:VTIMEZONE
BEGIN:VEVENT
DTSTART;TZID=UTC:20260920T100000
DTEND;TZID=UTC:20260920T170000
DTSTAMP:20260422T094132
CREATED:20251125T215906Z
LAST-MODIFIED:20260226T232913Z
UID:590-1789898400-1789923600@norfolkarchery.org.uk
SUMMARY:Fakenham Bowmen - NAA County Outdoors
DESCRIPTION:Fakenham are hosting the County Outdoors! \nUKRS Westerns \nEntry is open!
URL:https://norfolkarchery.org.uk/event/fakenham-bowmen-save-the-date
LOCATION:Fakenham Racecourse\, The Racecourse\, Fakenham\, Norfolk\, NR21 7NY\, United Kingdom
CATEGORIES:Tournaments
ATTACH;FMTTYPE=image/png:https://norfolkarchery.org.uk/wp-content/uploads/clubs/Logo.png
END:VEVENT
END:VCALENDAR