BEGIN:VCALENDAR
VERSION:2.0
PRODID:-//Norfolk Archery Association - ECPv6.15.20//NONSGML v1.0//EN
CALSCALE:GREGORIAN
METHOD:PUBLISH
X-WR-CALNAME:Norfolk Archery Association
X-ORIGINAL-URL:https://norfolkarchery.org.uk
X-WR-CALDESC:Events for Norfolk Archery Association
REFRESH-INTERVAL;VALUE=DURATION:PT1H
X-Robots-Tag:noindex
X-PUBLISHED-TTL:PT1H
BEGIN:VTIMEZONE
TZID:UTC
BEGIN:STANDARD
TZOFFSETFROM:+0000
TZOFFSETTO:+0000
TZNAME:UTC
DTSTART:20240101T000000
END:STANDARD
END:VTIMEZONE
BEGIN:VEVENT
DTSTART;TZID=UTC:20251102T000000
DTEND;TZID=UTC:20251102T235959
DTSTAMP:20260420T102452
CREATED:20250522T212703Z
LAST-MODIFIED:20250527T125653Z
UID:407-1762041600-1762127999@norfolkarchery.org.uk
SUMMARY:Wymondham Winter Worcester 2025
DESCRIPTION:Wymondham Archers’ UKRS Winter Worcester returns for another year! Take part and shoot a single\, double\, or even triple round! Sign up using Wymondham Archers’ Trybooking page.
URL:https://norfolkarchery.org.uk/event/wymondham-winter-worcester-2025
LOCATION:St Walstons Hall\, Norfolk Showground\, Norwich\, NR5 0TT\, United Kingdom
CATEGORIES:Tournaments
ATTACH;FMTTYPE=image/png:https://norfolkarchery.org.uk/wp-content/uploads/site_images/logo.png
ORGANIZER;CN="Wymondham Archers":MAILTO:tournamentswymondhamarchers@gmail.com
END:VEVENT
BEGIN:VEVENT
DTSTART;TZID=UTC:20251116T000000
DTEND;TZID=UTC:20251116T235959
DTSTAMP:20260420T102452
CREATED:20250522T212802Z
LAST-MODIFIED:20250527T125620Z
UID:409-1763251200-1763337599@norfolkarchery.org.uk
SUMMARY:Fakenham Bowmen 2nd UKRS Portsmouth
DESCRIPTION:Fakenham Bowmen’s UKRS Portsmouth returns for a second year after a roaring success in 2024! In true Fakenham style there will be awards for anyone shooting tri-bow. Sign up using Fakenham’s Bowmen’s booking link.
URL:https://norfolkarchery.org.uk/event/fakenham-bowmen-2nd-ukrs-portsmouth
LOCATION:Fakenham Sports and Fitness Centre\, Trap Lane\, Fakenham\, Norfolk\, NR21 9HL\, United Kingdom
CATEGORIES:Tournaments
ATTACH;FMTTYPE=image/png:https://norfolkarchery.org.uk/wp-content/uploads/site_images/logo.png
END:VEVENT
BEGIN:VEVENT
DTSTART;TZID=UTC:20251122T000000
DTEND;TZID=UTC:20251122T235959
DTSTAMP:20260420T102452
CREATED:20250619T180829Z
LAST-MODIFIED:20251118T164509Z
UID:460-1763769600-1763855999@norfolkarchery.org.uk
SUMMARY:Hingham Bowmen Hit Miss Express
DESCRIPTION:Hingham Bowmen’s Hit/Miss Express returns! Make sure to get yourself a teammate and sign up to attend a rapid-fire series of Hit/Miss matches! Sign up using the Trybooking link to avoid missing out!
URL:https://norfolkarchery.org.uk/event/hingham-bowmen-save-the-date-2025
LOCATION:Hingham Bowmen\, Hingham Sports Centre / Hingham Playing Field Association\, Hingham\, Norfolk\, NR9 4HD\, United Kingdom
CATEGORIES:Tournaments
ATTACH;FMTTYPE=image/jpeg:https://norfolkarchery.org.uk/wp-content/uploads/clubs/Hingham_Bowmen.jpg
END:VEVENT
END:VCALENDAR