BEGIN:VCALENDAR
VERSION:2.0
PRODID:-//Norfolk Archery Association - ECPv6.15.20//NONSGML v1.0//EN
CALSCALE:GREGORIAN
METHOD:PUBLISH
X-WR-CALNAME:Norfolk Archery Association
X-ORIGINAL-URL:https://norfolkarchery.org.uk
X-WR-CALDESC:Events for Norfolk Archery Association
REFRESH-INTERVAL;VALUE=DURATION:PT1H
X-Robots-Tag:noindex
X-PUBLISHED-TTL:PT1H
BEGIN:VTIMEZONE
TZID:UTC
BEGIN:STANDARD
TZOFFSETFROM:+0000
TZOFFSETTO:+0000
TZNAME:UTC
DTSTART:20240101T000000
END:STANDARD
END:VTIMEZONE
BEGIN:VEVENT
DTSTART;TZID=UTC:20251004T080000
DTEND;TZID=UTC:20251005T170000
DTSTAMP:20260422T094104
CREATED:20250522T212305Z
LAST-MODIFIED:20250522T213155Z
UID:401-1759564800-1759683600@norfolkarchery.org.uk
SUMMARY:Fakenham Bowmen Clout Weekend and County Clout 2025
DESCRIPTION:Fakenham Bowmen are hosting their Clout Weekend on the weekend of October 4th and 5th. \nSaturday will be a World Archery Metric Clout shoot and Sunday will be an Archery GB Imperial Clout shoot that will also be the County Clout Championships. Both days will be UK Record and Tassel Status. \nFull details and entry information can be found on Fakenham’s booking page.
URL:https://norfolkarchery.org.uk/event/fakenham-bowmen-clout-weekend-and-county-clout-2025
LOCATION:Fakenham Racecourse\, The Racecourse\, Fakenham\, Norfolk\, NR21 7NY\, United Kingdom
CATEGORIES:Tournaments
ATTACH;FMTTYPE=image/png:https://norfolkarchery.org.uk/wp-content/uploads/site_images/logo.png
END:VEVENT
END:VCALENDAR