BEGIN:VCALENDAR
VERSION:2.0
PRODID:-//Norfolk Archery Association - ECPv6.15.20//NONSGML v1.0//EN
CALSCALE:GREGORIAN
METHOD:PUBLISH
X-ORIGINAL-URL:https://norfolkarchery.org.uk
X-WR-CALDESC:Events for Norfolk Archery Association
REFRESH-INTERVAL;VALUE=DURATION:PT1H
X-Robots-Tag:noindex
X-PUBLISHED-TTL:PT1H
BEGIN:VTIMEZONE
TZID:UTC
BEGIN:STANDARD
TZOFFSETFROM:+0000
TZOFFSETTO:+0000
TZNAME:UTC
DTSTART:20250101T000000
END:STANDARD
END:VTIMEZONE
BEGIN:VEVENT
DTSTART;TZID=UTC:20260628T093000
DTEND;TZID=UTC:20260628T160000
DTSTAMP:20260421T102024
CREATED:20260409T164810Z
LAST-MODIFIED:20260409T164810Z
UID:694-1782639000-1782662400@norfolkarchery.org.uk
SUMMARY:Wymondham Archers English Longbow Shoot
DESCRIPTION:
URL:https://norfolkarchery.org.uk/event/wymondham-archers-english-longbow-shoot
LOCATION:Wymondham Rugby Club\, Barnard Fields\, off Bray Drive\, Wymondham\, Norfolk\, NR18 0GQ\, United Kingdom
CATEGORIES:Fun Shoots,Tournaments
ATTACH;FMTTYPE=image/jpeg:https://norfolkarchery.org.uk/wp-content/uploads/clubs/unnamed-e1731754780110.jpg
END:VEVENT
BEGIN:VEVENT
DTSTART;TZID=UTC:20260802T080000
DTEND;TZID=UTC:20260802T170000
DTSTAMP:20260421T102024
CREATED:20251125T215754Z
LAST-MODIFIED:20251125T215754Z
UID:588-1785657600-1785690000@norfolkarchery.org.uk
SUMMARY:City of Norwich Medieval Clout
DESCRIPTION:The ever popular Medieval Clout returns in 2026 on 2nd August. \nFull details coming soon\, definitely one to watch out for!
URL:https://norfolkarchery.org.uk/event/city-of-norwich-medieval-clout
LOCATION:City of Norwich Archers\, 187 Middletons Lane\, Norwich\, Norfolk\, NR6 5SB\, United Kingdom
CATEGORIES:Fun Shoots,Tournaments
ATTACH;FMTTYPE=image/jpeg:https://norfolkarchery.org.uk/wp-content/uploads/clubs/cona.jpg
END:VEVENT
BEGIN:VEVENT
DTSTART;TZID=UTC:20260906T000000
DTEND;TZID=UTC:20260906T235959
DTSTAMP:20260421T102024
CREATED:20260216T170356Z
LAST-MODIFIED:20260216T170356Z
UID:649-1788652800-1788739199@norfolkarchery.org.uk
SUMMARY:Hingham Bowmen Fun Field Shoot
DESCRIPTION:Hingham Bowmen’s Fun Field Shoot returns in 2026! \nStay tuned for full details and entry information.
URL:https://norfolkarchery.org.uk/event/hingham-bowmen-fun-field-shoot-2026
LOCATION:Norfolk
CATEGORIES:Fun Shoots
ATTACH;FMTTYPE=image/png:https://norfolkarchery.org.uk/wp-content/uploads/site_images/logo.png
END:VEVENT
BEGIN:VEVENT
DTSTART;TZID=UTC:20261017T160000
DTEND;TZID=UTC:20261017T210000
DTSTAMP:20260421T102024
CREATED:20251125T220202Z
LAST-MODIFIED:20251125T220202Z
UID:594-1792252800-1792270800@norfolkarchery.org.uk
SUMMARY:City of Norwich Pumpkin Shoot
DESCRIPTION:The fun and friendly pumpkin shoot is set to return for another year\, with soup aplenty. Save the date
URL:https://norfolkarchery.org.uk/event/city-of-norwich-pumpkin-shoot-2
LOCATION:City of Norwich Archers\, 187 Middletons Lane\, Norwich\, Norfolk\, NR6 5SB\, United Kingdom
CATEGORIES:Fun Shoots
ATTACH;FMTTYPE=image/jpeg:https://norfolkarchery.org.uk/wp-content/uploads/clubs/cona.jpg
END:VEVENT
END:VCALENDAR