BEGIN:VCALENDAR
VERSION:2.0
PRODID:-//Norfolk Archery Association - ECPv6.15.20//NONSGML v1.0//EN
CALSCALE:GREGORIAN
METHOD:PUBLISH
X-WR-CALNAME:Norfolk Archery Association
X-ORIGINAL-URL:https://norfolkarchery.org.uk
X-WR-CALDESC:Events for Norfolk Archery Association
REFRESH-INTERVAL;VALUE=DURATION:PT1H
X-Robots-Tag:noindex
X-PUBLISHED-TTL:PT1H
BEGIN:VTIMEZONE
TZID:UTC
BEGIN:STANDARD
TZOFFSETFROM:+0000
TZOFFSETTO:+0000
TZNAME:UTC
DTSTART:20250101T000000
END:STANDARD
END:VTIMEZONE
BEGIN:VEVENT
DTSTART;TZID=UTC:20261017T160000
DTEND;TZID=UTC:20261017T210000
DTSTAMP:20260425T114528
CREATED:20251125T220202Z
LAST-MODIFIED:20251125T220202Z
UID:594-1792252800-1792270800@norfolkarchery.org.uk
SUMMARY:City of Norwich Pumpkin Shoot
DESCRIPTION:The fun and friendly pumpkin shoot is set to return for another year\, with soup aplenty. Save the date
URL:https://norfolkarchery.org.uk/event/city-of-norwich-pumpkin-shoot-2
LOCATION:City of Norwich Archers\, 187 Middletons Lane\, Norwich\, Norfolk\, NR6 5SB\, United Kingdom
CATEGORIES:Fun Shoots
ATTACH;FMTTYPE=image/jpeg:https://norfolkarchery.org.uk/wp-content/uploads/clubs/cona.jpg
END:VEVENT
END:VCALENDAR