BEGIN:VCALENDAR
VERSION:2.0
PRODID:-//Norfolk Archery Association - ECPv6.15.20//NONSGML v1.0//EN
CALSCALE:GREGORIAN
METHOD:PUBLISH
X-WR-CALNAME:Norfolk Archery Association
X-ORIGINAL-URL:https://norfolkarchery.org.uk
X-WR-CALDESC:Events for Norfolk Archery Association
REFRESH-INTERVAL;VALUE=DURATION:PT1H
X-Robots-Tag:noindex
X-PUBLISHED-TTL:PT1H
BEGIN:VTIMEZONE
TZID:UTC
BEGIN:STANDARD
TZOFFSETFROM:+0000
TZOFFSETTO:+0000
TZNAME:UTC
DTSTART:20250101T000000
END:STANDARD
END:VTIMEZONE
BEGIN:VEVENT
DTSTART;TZID=UTC:20260319T190000
DTEND;TZID=UTC:20260319T210000
DTSTAMP:20260421T114402
CREATED:20260226T233223Z
LAST-MODIFIED:20260226T233256Z
UID:657-1773946800-1773954000@norfolkarchery.org.uk
SUMMARY:NAA Committee Meeting
DESCRIPTION:Our next Committee meeting will be held online. \nTime and Agenda tbc\, details coming soon. \nWe hope to also include a Presentation from Archery GB about the On Target program that may be of interest to clubs.
URL:https://norfolkarchery.org.uk/event/naa-committee-meeting
CATEGORIES:County Meetings
ATTACH;FMTTYPE=image/png:https://norfolkarchery.org.uk/wp-content/uploads/site_images/logo.png
END:VEVENT
END:VCALENDAR